BEGIN:VCALENDAR
VERSION:2.0
CALSCALE:GREGORIAN
PRODID:adamgibbons/ics
METHOD:PUBLISH
X-PUBLISHED-TTL:PT1H
BEGIN:VEVENT
UID:1294@mkeshows.com
SUMMARY:Cassini Echoes /The Paper Flames/ Long Arms
DTSTAMP:20260421T011709Z
DTSTART:20260612T000000Z
DTEND:20260612T033000Z
DESCRIPTION:7pm Doors\, 7:30 pm Show\n\n$10 adv\, $15 DOS\n\nAll Ages
URL:https://mkeshows.com/event/cassini-echoes-the-paper-flames-long-arms
GEO:43.0121122;-87.9319284
LOCATION:MKE Ultra - 1535 W. Mitchell Street
STATUS:CONFIRMED
CATEGORIES:
X-ALT-DESC;FMTTYPE=text/html:<p>7pm Doors, 7:30 pm Show</p><p>$10 adv, $15 
	DOS</p><p>All Ages</p>
BEGIN:VALARM
ACTION:DISPLAY
DESCRIPTION:Cassini Echoes /The Paper Flames/ Long Arms
TRIGGER:-PT1H
END:VALARM
END:VEVENT
END:VCALENDAR
