BEGIN:VCALENDAR
VERSION:2.0
CALSCALE:GREGORIAN
PRODID:adamgibbons/ics
METHOD:PUBLISH
X-PUBLISHED-TTL:PT1H
BEGIN:VEVENT
UID:1064@mkeshows.com
SUMMARY:Poison Ruïn\, Cruelster\, Navaja\, Bad Crime\, Temporal Autonomy
DTSTAMP:20260420T140542Z
DTSTART:20260425T000000Z
URL:https://mkeshows.com/event/poison-ruin-cruelster-navaja-bad-crime-tempo
	ral-autonomy
GEO:43.067631649999996;-87.90021404759192
LOCATION:Quarters Rock 'n Roll Palace - 900 E Center St\, Milwaukee\, WI 53
	212
STATUS:CONFIRMED
CATEGORIES:21+
END:VEVENT
BEGIN:VEVENT
UID:1111@mkeshows.com
SUMMARY:The Icks\, Poor Ridley\, Conjuct Moon
DTSTAMP:20260420T140542Z
DTSTART:20260501T000000Z
URL:https://mkeshows.com/event/the-icks-poor-ridley-conjuct-moon
GEO:43.067631649999996;-87.90021404759192
LOCATION:Quarters Rock 'n Roll Palace - 900 E Center St\, Milwaukee\, WI 53
	212
STATUS:CONFIRMED
CATEGORIES:
END:VEVENT
BEGIN:VEVENT
UID:1186@mkeshows.com
SUMMARY:Donna Allen / Bullseye / Poison Widow / Razor Toast
DTSTAMP:20260420T140542Z
DTSTART:20260502T020000Z
DTEND:20260502T060000Z
URL:https://mkeshows.com/event/donna-allen-nyc-bullseye-nyc-poison-widow-ce
	ntral-wi-razor-toast
GEO:43.067631649999996;-87.90021404759192
LOCATION:Quarters Rock 'n Roll Palace - 900 E Center St\, Milwaukee\, WI 53
	212
STATUS:CONFIRMED
CATEGORIES:21+,Alternative,Folk,Indie Rock,Post Punk
END:VEVENT
BEGIN:VEVENT
UID:1245@mkeshows.com
SUMMARY:No Knock\, Paprika\, Flowering\, Phenomena
DTSTAMP:20260420T140542Z
DTSTART:20260505T010000Z
URL:https://mkeshows.com/event/no-knock-paprika-flowering-phenomena
GEO:43.067631649999996;-87.90021404759192
LOCATION:Quarters Rock 'n Roll Palace - 900 E Center St\, Milwaukee\, WI 53
	212
STATUS:CONFIRMED
CATEGORIES:21+,Hardcore Punk,Punk
END:VEVENT
BEGIN:VEVENT
UID:1257@mkeshows.com
SUMMARY:American Culture\, Obsess Tact\, Our Vanity
DTSTAMP:20260420T140542Z
DTSTART:20260531T010000Z
URL:https://mkeshows.com/event/american-culture-obsess-tact-our-vanity
GEO:43.067631649999996;-87.90021404759192
LOCATION:Quarters Rock 'n Roll Palace - 900 E Center St\, Milwaukee\, WI 53
	212
STATUS:CONFIRMED
CATEGORIES:21+
END:VEVENT
END:VCALENDAR
