BEGIN:VCALENDAR
VERSION:2.0
CALSCALE:GREGORIAN
PRODID:adamgibbons/ics
METHOD:PUBLISH
X-PUBLISHED-TTL:PT1H
BEGIN:VEVENT
UID:1274@mkeshows.com
SUMMARY:Flake / Mizzy / Crash House / Steal Salvage
DTSTAMP:20260421T133015Z
DTSTART:20260504T000000Z
URL:https://mkeshows.com/event/flake-mizzy-crash-house-steal-salvage
GEO:43.02552645;-87.91363047530088
LOCATION:Anodyne Coffee Roasting Co. - 224 W Bruce St\, Milwaukee\, WI 5320
	4
STATUS:CONFIRMED
CATEGORIES:All Ages,Alt Rock,Emo,Rock,Shoegaze
END:VEVENT
BEGIN:VEVENT
UID:1173@mkeshows.com
SUMMARY:Pigeon Pit / Walter Mitty and his Makeshift Orchestra / Antler Lock
	ed
DTSTAMP:20260421T133015Z
DTSTART:20260505T000000Z
URL:https://mkeshows.com/event/pigeon-pit-walter-mitty-and-his-makeshift-or
	chestra-antler-locked
GEO:43.02552645;-87.91363047530088
LOCATION:Anodyne Coffee Roasting Co. - 224 W Bruce St\, Milwaukee\, WI 5320
	4
STATUS:CONFIRMED
CATEGORIES:All Ages,Folk Punk
END:VEVENT
BEGIN:VEVENT
UID:1295@mkeshows.com
SUMMARY:Old Timer / The Paper Flames / The Yes And
DTSTAMP:20260421T133015Z
DTSTART:20260525T000000Z
DTEND:20260525T033000Z
URL:https://mkeshows.com/event/old-timer-the-paper-flames-the-yes-and
GEO:43.02552645;-87.91363047530088
LOCATION:Anodyne Coffee Roasting Co. - 224 W Bruce St\, Milwaukee\, WI 5320
	4
STATUS:CONFIRMED
CATEGORIES:All Ages
END:VEVENT
END:VCALENDAR
