BEGIN:VCALENDAR
VERSION:2.0
CALSCALE:GREGORIAN
PRODID:adamgibbons/ics
METHOD:PUBLISH
X-PUBLISHED-TTL:PT1H
BEGIN:VEVENT
UID:1253@mkeshows.com
SUMMARY:Smoke Free Home\, Courtesy\, In Shining Armour
DTSTAMP:20260422T021927Z
DTSTART:20260503T010000Z
URL:https://mkeshows.com/event/smoke-free-home-courtesy-in-shining-armour
GEO:43.0655639;-87.9014431
LOCATION:Falcon Bowl - 801 East Clarke Street\, Milwaukee\, WI 53212
STATUS:CONFIRMED
CATEGORIES:All Ages
END:VEVENT
BEGIN:VEVENT
UID:1053@mkeshows.com
SUMMARY:Rickshaw Billie’s Burger Patrol • American Sharks • Pink Fuzz
DTSTAMP:20260422T021927Z
DTSTART:20260507T000000Z
URL:https://mkeshows.com/event/rickshaw-billies-burger-patrol-american-shar
	ks-pink-fuzz
GEO:43.0655639;-87.9014431
LOCATION:Falcon Bowl - 801 East Clarke Street\, Milwaukee\, WI 53212
STATUS:CONFIRMED
CATEGORIES:All Ages,Rock
END:VEVENT
BEGIN:VEVENT
UID:1227@mkeshows.com
SUMMARY:Shake The Baby Fest
DTSTAMP:20260422T021927Z
DTSTART:20260516T180000Z
URL:https://mkeshows.com/event/shake-the-baby-fest
GEO:43.0655639;-87.9014431
LOCATION:Falcon Bowl - 801 East Clarke Street\, Milwaukee\, WI 53212
STATUS:CONFIRMED
CATEGORIES:All Ages
END:VEVENT
BEGIN:VEVENT
UID:1109@mkeshows.com
SUMMARY:Clementine\, Hang Your Hate\, Overhand\, I'll Remember April
DTSTAMP:20260422T021927Z
DTSTART:20260521T000000Z
URL:https://mkeshows.com/event/clementine-hang-your-hate-overhand-ill-remem
	ber-april
GEO:43.0655639;-87.9014431
LOCATION:Falcon Bowl - 801 East Clarke Street\, Milwaukee\, WI 53212
STATUS:CONFIRMED
CATEGORIES:All Ages
END:VEVENT
BEGIN:VEVENT
UID:1275@mkeshows.com
SUMMARY:Jeff Rosenstock\, Good Luck
DTSTAMP:20260422T021927Z
DTSTART:20260711T010000Z
URL:https://mkeshows.com/event/jeff-rosenstock-good-luck
GEO:43.0655639;-87.9014431
LOCATION:Falcon Bowl - 801 East Clarke Street\, Milwaukee\, WI 53212
STATUS:CONFIRMED
CATEGORIES:All Ages
END:VEVENT
BEGIN:VEVENT
UID:1190@mkeshows.com
SUMMARY:Chasing Abbey
DTSTAMP:20260422T021927Z
DTSTART:20261010T010000Z
URL:https://mkeshows.com/event/chasing-abbey
GEO:43.0655639;-87.9014431
LOCATION:Falcon Bowl - 801 East Clarke Street\, Milwaukee\, WI 53212
STATUS:CONFIRMED
CATEGORIES:All Ages,Folk,Pop
END:VEVENT
END:VCALENDAR
