BEGIN:VCALENDAR
VERSION:2.0
CALSCALE:GREGORIAN
PRODID:adamgibbons/ics
METHOD:PUBLISH
X-PUBLISHED-TTL:PT1H
BEGIN:VEVENT
UID:1259@mkeshows.com
SUMMARY:Godseyes / Action Observer / Siniu / Bullshit Nonsense
DTSTAMP:20260422T084703Z
DTSTART:20260513T000000Z
URL:https://mkeshows.com/event/godseyes-action-observer-siniu-bullshit-nons
	ense
GEO:42.9529484;-87.8597089931877
LOCATION:X-Ray Arcade - 5036 S Packard Ave\, Cudahy\, WI 53110
STATUS:CONFIRMED
CATEGORIES:All Ages,Emoviolence,Metalcore,Post Hardcore,Screamo
END:VEVENT
END:VCALENDAR
