BEGIN:VCALENDAR
VERSION:2.0
CALSCALE:GREGORIAN
PRODID:adamgibbons/ics
METHOD:PUBLISH
X-PUBLISHED-TTL:PT1H
BEGIN:VEVENT
UID:1269@mkeshows.com
SUMMARY:Pulpa De Guayaba • Calakas Sonora • DJ Pan Fino
DTSTAMP:20260420T140417Z
DTSTART:20260427T000000Z
URL:https://mkeshows.com/event/pulpa-de-guayaba-calakas-sonora-dj-pan-fino
GEO:42.99903035;-87.8902020402719
LOCATION:Cactus Club - 2496 S Wentworth Ave\, Milwaukee\, WI 53207
STATUS:CONFIRMED
CATEGORIES:Cumbia,DJ,Hip Hop,Latin,Rock,Ska
END:VEVENT
END:VCALENDAR
