BEGIN:VCALENDAR
VERSION:2.0
CALSCALE:GREGORIAN
PRODID:adamgibbons/ics
METHOD:PUBLISH
X-PUBLISHED-TTL:PT1H
BEGIN:VEVENT
UID:1282@mkeshows.com
SUMMARY:Restraining Order / World I Hate / No Guard / Sex Scenes
DTSTAMP:20260422T084457Z
DTSTART:20260528T000000Z
URL:https://mkeshows.com/event/restraining-order-world-i-hate-no-guard-sex-
	scenes
GEO:42.9529484;-87.8597089931877
LOCATION:X-Ray Arcade - 5036 S Packard Ave\, Cudahy\, WI 53110
STATUS:CONFIRMED
CATEGORIES:All Ages,Hardcore,Hardcore Punk,Oi
END:VEVENT
END:VCALENDAR
