BEGIN:VCALENDAR
VERSION:2.0
CALSCALE:GREGORIAN
PRODID:adamgibbons/ics
METHOD:PUBLISH
X-PUBLISHED-TTL:PT1H
BEGIN:VEVENT
UID:1145@mkeshows.com
SUMMARY:YOWK / Ace Parker / Suvi / Matt Andrus
DTSTAMP:20260423T083239Z
DTSTART:20260430T000000Z
URL:https://mkeshows.com/event/yowk-ace-parker-suvi-matt-andrus
GEO:42.9529484;-87.8597089931877
LOCATION:X-Ray Arcade - 5036 S Packard Ave\, Cudahy\, WI 53110
STATUS:CONFIRMED
CATEGORIES:All Ages,Hip Hop,Rap,Singer Songwriter
END:VEVENT
BEGIN:VEVENT
UID:1074@mkeshows.com
SUMMARY:Keenan Trevon
DTSTAMP:20260423T083239Z
DTSTART:20260514T010000Z
URL:https://mkeshows.com/event/keenan-trevon
GEO:42.9529484;-87.8597089931877
LOCATION:X-Ray Arcade - 5036 S Packard Ave\, Cudahy\, WI 53110
STATUS:CONFIRMED
CATEGORIES:All Ages,Alternative,Hip Hop,Pop,Rap
END:VEVENT
BEGIN:VEVENT
UID:1019@mkeshows.com
SUMMARY:By Storm • Lerado Khalil
DTSTAMP:20260423T083239Z
DTSTART:20260531T000000Z
URL:https://mkeshows.com/event/by-storm-lerado-khalil
GEO:42.99903035;-87.8902020402719
LOCATION:Cactus Club - 2496 S Wentworth Ave\, Milwaukee\, WI 53207
STATUS:CONFIRMED
CATEGORIES:All Ages,Hip Hop,Rap
END:VEVENT
BEGIN:VEVENT
UID:1035@mkeshows.com
SUMMARY:Rap J • Riz • Amara • DJ Dscribe • Darrin Alston
DTSTAMP:20260423T083239Z
DTSTART:20260701T000000Z
URL:https://mkeshows.com/event/rap-j-riz-amara-dj-dscribe-darrin-alston
GEO:42.99903035;-87.8902020402719
LOCATION:Cactus Club - 2496 S Wentworth Ave\, Milwaukee\, WI 53207
STATUS:CONFIRMED
CATEGORIES:All Ages,Hip Hop,Rap
END:VEVENT
END:VCALENDAR
