BEGIN:VCALENDAR
VERSION:2.0
CALSCALE:GREGORIAN
PRODID:adamgibbons/ics
METHOD:PUBLISH
X-PUBLISHED-TTL:PT1H
BEGIN:VEVENT
UID:1016@mkeshows.com
SUMMARY:NecroticGoreBeast / Atoll / Carrion Vael / Cannibal Abortion / Anci
	ent Entities
DTSTAMP:20260421T165045Z
DTSTART:20260428T233000Z
URL:https://mkeshows.com/event/necroticgorebeast-atoll-carrion-vael
GEO:42.9529484;-87.8597089931877
LOCATION:X-Ray Arcade - 5036 S Packard Ave\, Cudahy\, WI 53110
STATUS:CONFIRMED
CATEGORIES:All Ages,Brutal Death Metal,Death Metal,Thrash
END:VEVENT
BEGIN:VEVENT
UID:1272@mkeshows.com
SUMMARY:Gudon\, Disrobe\, Force\, Temporal Autonomy
DTSTAMP:20260421T165045Z
DTSTART:20260506T220000Z
DTEND:20260507T030000Z
URL:https://mkeshows.com/event/gudon-disrobe-force-temporal-autonomy
LOCATION:Ground Zero - Ask A Punk
STATUS:CONFIRMED
CATEGORIES:All Ages,Crossover,DIY,Hardcore,Hardcore Punk,Punk,Thrash
END:VEVENT
END:VCALENDAR
